BEGIN:VCALENDAR
VERSION:2.0
PRODID:-//Steamwork//NONSGML kigkonsult.se iCalcreator 2.41.92//
CALSCALE:GREGORIAN
METHOD:PUBLISH
UID:31346138-3363-4136-b039-376663303436
X-WR-CALNAME:iCagenda
X-WR-CALDESC:Event Management Extension for Joomla!
X-WR-RELCALID:3E26604A-50F4-4449-8B3E-E4F4932D05B5
X-WR-TIMEZONE:Europe/Amsterdam
BEGIN:VTIMEZONE
TZID:Europe/Amsterdam
TZUNTIL:20270328T010000Z
BEGIN:STANDARD
TZNAME:CET
DTSTART:20241027T030000
TZOFFSETFROM:+0200
TZOFFSETTO:+0100
RDATE:20251026T030000
RDATE:20261025T030000
END:STANDARD
BEGIN:DAYLIGHT
TZNAME:CEST
DTSTART:20250330T020000
TZOFFSETFROM:+0100
TZOFFSETTO:+0200
RDATE:20260329T020000
END:DAYLIGHT
END:VTIMEZONE
BEGIN:VEVENT
UID:36346366-6236-4462-a631-633434663834
DTSTAMP:20260424T182620Z
CATEGORIES:Sponsor Acties
CLASS:PUBLIC
DESCRIPTION;ALTREP="CID:<FFFF__=0ABBE548DFE235B58f9e8a93d@coffeebean.com>":
 Net als vorig jaar organiseren we weer het Power Event. Dit jaar nog veel 
 meer stoere\, coole auto's\, waarin je tegen een kleine vergoeding als bij
 rijder een rondje mag ervaren. Zodra er meer informatie bekend is vind je 
 dit hier terug. Zet de datum vast in je agenda.&nbsp\;
DTSTART:20250621T080000Z
DTEND:20250621T150000Z
GEO:+51.825581;+4.831711
LOCATION:Hardinxveld-Giessendam
ORGANIZER:
SEQUENCE:1
SUMMARY:Power Event 2025
TRANSP:OPAQUE
URL:https://www.team293-steamwork.nl/component/icagenda/69-power-event-2024
 ?layout=vcal
END:VEVENT
END:VCALENDAR
