BEGIN:VCALENDAR
VERSION:2.0
PRODID:-//Steamwork//NONSGML kigkonsult.se iCalcreator 2.41.92//
CALSCALE:GREGORIAN
METHOD:PUBLISH
UID:31323963-3338-4531-b666-333966383161
X-WR-CALNAME:iCagenda
X-WR-CALDESC:Event Management Extension for Joomla!
X-WR-RELCALID:3E26604A-50F4-4449-8B3E-E4F4932D05B5
X-WR-TIMEZONE:Europe/Amsterdam
BEGIN:VTIMEZONE
TZID:Europe/Amsterdam
TZUNTIL:20270328T010000Z
BEGIN:STANDARD
TZNAME:CET
DTSTART:20241027T030000
TZOFFSETFROM:+0200
TZOFFSETTO:+0100
RDATE:20251026T030000
RDATE:20261025T030000
END:STANDARD
BEGIN:DAYLIGHT
TZNAME:CEST
DTSTART:20250330T020000
TZOFFSETFROM:+0100
TZOFFSETTO:+0200
RDATE:20260329T020000
END:DAYLIGHT
END:VTIMEZONE
BEGIN:VEVENT
UID:35333332-6433-4238-b537-343263396266
DTSTAMP:20260424T164827Z
CATEGORIES:Sponsor Acties
CLASS:PUBLIC
DESCRIPTION;ALTREP="CID:<FFFF__=0ABBE548DFE235B58f9e8a93d@coffeebean.com>":
 Je kunt onze kilometers van de Roparun route sponsoren. Dit jaar starten w
 e weer als vanouds vanuit Frankrijk.&nbsp\;In Rotterdam finishen we weer a
 ls op de Coolsingel. De totale route bedraagt 530 kilometer.\nWe willen de
  route in delen van 1 kilometer verkopen. Voor iedere kilometer betaal je 
 €10\,- euro\, waarmee je direct een bijdrage levert aan de Roparun en hier
 mee aan&nbsp\;de zorg aan mensen met kanker. Als we alle kilometers krijge
 n gesteund\, hebben we een minimale bijdrage van €5.300\,- euro.\nWil je o
 ns sponsoren\, maar ben je nog niet benaderd door een van onze teamleden n
 eem dan een kijkje op onze pagina.&nbsp\;Steun ons&nbsp\;of sponsor direct
  kilometers
DTSTART:20250430T220000Z
DTEND:20250609T160000Z
GEO:+52.132633;+5.291266
LOCATION:Nederland
ORGANIZER:
SEQUENCE:1
SUMMARY:Kilometer Actie 2025
TRANSP:OPAQUE
URL:https://www.team293-steamwork.nl/component/icagenda/68-kilometer-actie-
 6?layout=vcal
END:VEVENT
END:VCALENDAR
