BEGIN:VCALENDAR
VERSION:2.0
PRODID:-//Steamwork//NONSGML kigkonsult.se iCalcreator 2.41.92//
CALSCALE:GREGORIAN
METHOD:PUBLISH
UID:33343438-3530-4233-b863-383231646462
X-WR-CALNAME:iCagenda
X-WR-CALDESC:Event Management Extension for Joomla!
X-WR-RELCALID:3E26604A-50F4-4449-8B3E-E4F4932D05B5
X-WR-TIMEZONE:Europe/Amsterdam
BEGIN:VTIMEZONE
TZID:Europe/Amsterdam
TZUNTIL:20270328T010000Z
BEGIN:STANDARD
TZNAME:CET
DTSTART:20241027T030000
TZOFFSETFROM:+0200
TZOFFSETTO:+0100
RDATE:20251026T030000
RDATE:20261025T030000
END:STANDARD
BEGIN:DAYLIGHT
TZNAME:CEST
DTSTART:20250330T020000
TZOFFSETFROM:+0100
TZOFFSETTO:+0200
RDATE:20260329T020000
END:DAYLIGHT
END:VTIMEZONE
BEGIN:VEVENT
UID:31373661-6165-4532-a536-313462643533
DTSTAMP:20260424T182619Z
CATEGORIES:Roparun
CLASS:PUBLIC
DESCRIPTION;ALTREP="CID:<FFFF__=0ABBE548DFE235B58f9e8a93d@coffeebean.com>":
 In een feestelijke entourage worden alle team vanuit zowel Parijs als Rott
 erdam binnen gehaald.&nbsp\;Wil je ons team binnenhalen hou dan onze live 
 blog tijdens de Roparun in de gaten. Dan heb je een indicatie hoe laat we 
 zullen finishen.\n&nbsp\;
DTSTART:20250609T090000Z
DTEND:20250609T170000Z
GEO:+51.922852;+4.48463
LOCATION:Binnenrotte Rotterdam
ORGANIZER:
SEQUENCE:1
SUMMARY:Binnenkomst Roparun 2025
TRANSP:OPAQUE
URL:https://www.team293-steamwork.nl/component/icagenda/66-binnenkomst-ropa
 run-2021?layout=vcal
END:VEVENT
END:VCALENDAR
