BEGIN:VCALENDAR
VERSION:2.0
PRODID:-//Steamwork//NONSGML kigkonsult.se iCalcreator 2.41.92//
CALSCALE:GREGORIAN
METHOD:PUBLISH
UID:33636532-6464-4463-b232-616264653330
X-WR-CALNAME:iCagenda
X-WR-CALDESC:Event Management Extension for Joomla!
X-WR-RELCALID:3E26604A-50F4-4449-8B3E-E4F4932D05B5
X-WR-TIMEZONE:Europe/Amsterdam
BEGIN:VTIMEZONE
TZID:Europe/Amsterdam
TZUNTIL:20270328T010000Z
BEGIN:STANDARD
TZNAME:CET
DTSTART:20241027T030000
TZOFFSETFROM:+0200
TZOFFSETTO:+0100
RDATE:20251026T030000
RDATE:20261025T030000
END:STANDARD
BEGIN:DAYLIGHT
TZNAME:CEST
DTSTART:20250330T020000
TZOFFSETFROM:+0100
TZOFFSETTO:+0200
RDATE:20260329T020000
END:DAYLIGHT
END:VTIMEZONE
BEGIN:VEVENT
UID:62343364-3434-4265-a532-306632393731
DTSTAMP:20260424T164741Z
CATEGORIES:Sponsor Acties
CLASS:PUBLIC
DESCRIPTION;ALTREP="CID:<FFFF__=0ABBE548DFE235B58f9e8a93d@coffeebean.com>":
 De Steamwork Prestatieloop 2025 wordt gehouden op 17 mei 2025 bij sportsch
 ool Fiiter -bijdewit- in Hardinxveld-Giessendam. Schrijf je in voor dit fa
 ntatstische evenement en steun de zorg aan mensen met kanker.
DTSTART:20250517T090000Z
DTEND:20250517T140000Z
GEO:+51.829319;+4.81936
LOCATION:Hardinxvel-Giesendam
ORGANIZER;CN=:mailto:info@team293-steamwork.nl
SEQUENCE:1
SUMMARY:Prestatieloop 2025
TRANSP:OPAQUE
URL:https://www.team293-steamwork.nl/component/icagenda/65-prestatieloop-20
 25?layout=vcal
END:VEVENT
END:VCALENDAR
