BEGIN:VCALENDAR
VERSION:2.0
PRODID:-//Steamwork//NONSGML kigkonsult.se iCalcreator 2.41.92//
CALSCALE:GREGORIAN
METHOD:PUBLISH
UID:31306136-3365-4633-b731-343437343965
X-WR-CALNAME:iCagenda
X-WR-CALDESC:Event Management Extension for Joomla!
X-WR-RELCALID:3E26604A-50F4-4449-8B3E-E4F4932D05B5
X-WR-TIMEZONE:Europe/Amsterdam
BEGIN:VTIMEZONE
TZID:Europe/Amsterdam
TZUNTIL:20260329T010000Z
BEGIN:STANDARD
TZNAME:CET
DTSTART:20231029T030000
TZOFFSETFROM:+0200
TZOFFSETTO:+0100
RDATE:20241027T030000
RDATE:20251026T030000
END:STANDARD
BEGIN:DAYLIGHT
TZNAME:CEST
DTSTART:20240331T020000
TZOFFSETFROM:+0100
TZOFFSETTO:+0200
RDATE:20250330T020000
END:DAYLIGHT
END:VTIMEZONE
BEGIN:VEVENT
UID:33653362-3132-4165-b535-336633353732
DTSTAMP:20260424T182620Z
CATEGORIES:Roparun
CLASS:PUBLIC
DESCRIPTION;ALTREP="CID:<FFFF__=0ABBE548DFE235B58f9e8a93d@coffeebean.com>":
 In een feestelijke entourage worden alle team vanuit zowel Parijs als Rott
 erdam binnen gehaald.&nbsp\;Wil je ons team binnenhalen hou dan onze live 
 blog tijdens de Roparun in de gaten. Dan heb je een indicatie hoe laat we 
 zullen finishen.\n&nbsp\;
DTSTART:20240520T090000Z
DTEND:20240520T170000Z
GEO:+51.920975;+4.479749
LOCATION:
ORGANIZER:
SEQUENCE:1
SUMMARY:Binnenkomst Roparun 2024
TRANSP:OPAQUE
URL:https://www.team293-steamwork.nl/component/icagenda/64-binnenkomst-ropa
 run-2020?layout=vcal
END:VEVENT
END:VCALENDAR
