BEGIN:VCALENDAR
VERSION:2.0
PRODID:-//Steamwork//NONSGML kigkonsult.se iCalcreator 2.41.92//
CALSCALE:GREGORIAN
METHOD:PUBLISH
UID:36643137-3562-4135-b566-633335613065
X-WR-CALNAME:iCagenda
X-WR-CALDESC:Event Management Extension for Joomla!
X-WR-RELCALID:3E26604A-50F4-4449-8B3E-E4F4932D05B5
X-WR-TIMEZONE:Europe/Amsterdam
BEGIN:VTIMEZONE
TZID:Europe/Amsterdam
TZUNTIL:20251026T010000Z
BEGIN:STANDARD
TZNAME:CET
DTSTART:20231029T030000
TZOFFSETFROM:+0200
TZOFFSETTO:+0100
RDATE:20241027T030000
END:STANDARD
BEGIN:DAYLIGHT
TZNAME:CEST
DTSTART:20230326T020000
TZOFFSETFROM:+0100
TZOFFSETTO:+0200
RDATE:20240331T020000
RDATE:20250330T020000
END:DAYLIGHT
END:VTIMEZONE
BEGIN:VEVENT
UID:65313261-3530-4634-b964-333332353937
DTSTAMP:20260424T203531Z
CATEGORIES:Sponsor Acties
CLASS:PUBLIC
DESCRIPTION;ALTREP="CID:<FFFF__=0ABBE548DFE235B58f9e8a93d@coffeebean.com>":
 Op vrijdag 2 Februari 2024 organiseert team 293 steamwork weer een spinnin
 gestafette. De spinningestafette zal plaatsvinden van 18:00 uur tot 22:00 
 uur bij sportcentrum Fitter (Schapedrift 87\, 3371JJ Hardinxveld-Giessenda
 m)\nWat heb je nodig:\n\nEen goede gezondheid en conditie is vereist\nDeel
 name aan de spinningestafette is geheel voor eigen risico\nDe organisatie 
 kan op geen enkele wijze aansprakelijk worden gesteld\nMinimale bijdrage €
 15\,- per uur per fiets.\nGraag vooraf betalen aan stichting Steamwork op 
 rekening nummer:&nbsp\;NL 68 RABO 1608 47 044\, via onderstaand inschrijff
 ormulier.\nSponsorgeld mag worden overgemaakt op bovenstaand rekening numm
 er of bij aanvang van de spinningestafette contant worden overhandigd.\n\n
 &nbsp\;
DTSTART:20240202T170000Z
DTEND:20240202T210000Z
GEO:+51.829319;+4.81936
LOCATION:Hardinxveld
ORGANIZER;CN=:mailto:spinning@team293-steamwork.nl
SEQUENCE:1
SUMMARY:Spinningestafette 2024
TRANSP:OPAQUE
URL:https://www.team293-steamwork.nl/component/icagenda/61-spinningestafett
 e-4?layout=vcal
END:VEVENT
END:VCALENDAR
