BEGIN:VCALENDAR
VERSION:2.0
PRODID:-//Steamwork//NONSGML kigkonsult.se iCalcreator 2.41.92//
CALSCALE:GREGORIAN
METHOD:PUBLISH
UID:35623465-6362-4862-b537-363661316264
X-WR-CALNAME:iCagenda
X-WR-CALDESC:Event Management Extension for Joomla!
X-WR-RELCALID:3E26604A-50F4-4449-8B3E-E4F4932D05B5
X-WR-TIMEZONE:Europe/Amsterdam
BEGIN:VTIMEZONE
TZID:Europe/Amsterdam
TZUNTIL:20250330T010000Z
BEGIN:STANDARD
TZNAME:CET
DTSTART:20221030T030000
TZOFFSETFROM:+0200
TZOFFSETTO:+0100
RDATE:20231029T030000
RDATE:20241027T030000
END:STANDARD
BEGIN:DAYLIGHT
TZNAME:CEST
DTSTART:20230326T020000
TZOFFSETFROM:+0100
TZOFFSETTO:+0200
RDATE:20240331T020000
END:DAYLIGHT
END:VTIMEZONE
BEGIN:VEVENT
UID:34626432-6334-4136-a237-643931646534
DTSTAMP:20260424T200739Z
CATEGORIES:Roparun
CLASS:PUBLIC
DESCRIPTION;ALTREP="CID:<FFFF__=0ABBE548DFE235B58f9e8a93d@coffeebean.com>":
 In de aanloop naar Roparun 2022 vinden er drie teambijeenkomsten&nbsp\;pla
 ats in de Doelen in Rotterdam. Tijdens deze bijeenkomsten wordt informatie
  gedeeld over allerlei zaken aangaande de Roparun en onderliggende activit
 eiten.&nbsp\;
DTSTART:20230506T080000Z
DTEND:20230506T100000Z
GEO:+51.906784;+4.491028
LOCATION:Nieuwe Luxor Rotterdam
ORGANIZER:
SEQUENCE:1
SUMMARY:Roparun Bijeenkomst
TRANSP:OPAQUE
URL:https://www.team293-steamwork.nl/component/icagenda/56-roparun-teambije
 enkomst-7?layout=vcal
END:VEVENT
END:VCALENDAR
