BEGIN:VCALENDAR
VERSION:2.0
PRODID:-//Steamwork//NONSGML kigkonsult.se iCalcreator 2.41.92//
CALSCALE:GREGORIAN
METHOD:PUBLISH
UID:35386536-3066-4532-a464-363265326639
X-WR-CALNAME:iCagenda
X-WR-CALDESC:Event Management Extension for Joomla!
X-WR-RELCALID:3E26604A-50F4-4449-8B3E-E4F4932D05B5
X-WR-TIMEZONE:Europe/Amsterdam
BEGIN:VTIMEZONE
TZID:Europe/Amsterdam
TZUNTIL:20241027T010000Z
BEGIN:STANDARD
TZNAME:CET
DTSTART:20221030T030000
TZOFFSETFROM:+0200
TZOFFSETTO:+0100
RDATE:20231029T030000
END:STANDARD
BEGIN:DAYLIGHT
TZNAME:CEST
DTSTART:20230326T020000
TZOFFSETFROM:+0100
TZOFFSETTO:+0200
RDATE:20240331T020000
END:DAYLIGHT
END:VTIMEZONE
BEGIN:VEVENT
UID:39656137-3334-4562-a636-303661333839
DTSTAMP:20260424T185926Z
CATEGORIES:Sponsor Acties
CLASS:PUBLIC
DESCRIPTION;ALTREP="CID:<FFFF__=0ABBE548DFE235B58f9e8a93d@coffeebean.com>":
 Voor ons Roparunavontuur zijn wij afhankelijk van sponsors. Alle teamleden
  zullen actief hun&nbsp\;familie\, vrienden\, buren\, (oud-)collega’s\, sp
 ortclubgenoten en wie je nog meer kunt bedenken benaderen\, en vragen ons 
 team\, en hiermee de Roparun te steunen.\nEr zijn verschillende mogelijkhe
 den om ons te sponsoren.\nDe volgende 2 mogelijkheden willen we even apart
  benadrukken:\n\nLosse kilometers sponsoren à € 10\,00\nLot van de Roparun
  loterij à € 2\,50\n\nWil je ons sponsoren\, maar ben je nog niet benaderd
  door een van onze teamleden neem dan een kijkje op onze pagina.&nbsp\;Ste
 un ons
DTSTART:20230416T220000Z
DTEND:20230529T160000Z
GEO:+52.132633;+5.291266
LOCATION:Nederland
ORGANIZER:
SEQUENCE:1
SUMMARY:Kilometer Actie
TRANSP:OPAQUE
URL:https://www.team293-steamwork.nl/component/icagenda/52-kilometer-actie-
 4?layout=vcal
END:VEVENT
END:VCALENDAR
