BEGIN:VCALENDAR
VERSION:2.0
PRODID:-//Steamwork//NONSGML kigkonsult.se iCalcreator 2.41.92//
CALSCALE:GREGORIAN
METHOD:PUBLISH
UID:34663131-3039-4263-b665-386232323535
X-WR-CALNAME:iCagenda
X-WR-CALDESC:Event Management Extension for Joomla!
X-WR-RELCALID:3E26604A-50F4-4449-8B3E-E4F4932D05B5
X-WR-TIMEZONE:Europe/Amsterdam
BEGIN:VTIMEZONE
TZID:Europe/Amsterdam
TZUNTIL:20250330T010000Z
BEGIN:STANDARD
TZNAME:CET
DTSTART:20221030T030000
TZOFFSETFROM:+0200
TZOFFSETTO:+0100
RDATE:20231029T030000
RDATE:20241027T030000
END:STANDARD
BEGIN:DAYLIGHT
TZNAME:CEST
DTSTART:20230326T020000
TZOFFSETFROM:+0100
TZOFFSETTO:+0200
RDATE:20240331T020000
END:DAYLIGHT
END:VTIMEZONE
BEGIN:VEVENT
UID:38336266-3732-4530-b836-643932356233
DTSTAMP:20260424T200738Z
CATEGORIES:Roparun
CLASS:PUBLIC
DESCRIPTION;ALTREP="CID:<FFFF__=0ABBE548DFE235B58f9e8a93d@coffeebean.com>":
 De Roparun is een estafetteloop met startlocaties in Parijs en Bremen en e
 en gezamenlijke finish in Rotterdam. Een Roparunteam bestaat uit maximaal 
 acht lopers die dus ieder gemiddeld zo’n 65 kilometer lopen oftewel meer d
 an anderhalve marathon(!).\nDaarnaast bestaat een team uit minimaal twee f
 ietsers en nog een aantal mensen in de begeleiding. Denk hierbij aan chauf
 feurs\, verzorgers\, cateraars en wegkapiteins. Teams zijn zelf verantwoor
 delijk voor de invulling van deze taken en gemiddeld bestaat een team uit 
 25 personen.\nNaast de sportieve inspanning\, moet er ook een inspanning g
 eleverd worden om geld op te halen voor het doel. Teams doen dit door het 
 organiseren van allerlei acties. Denk hierbij aan het inpakken van boodsch
 appen\, het wassen van auto’s\, het houden van collectes en het zoeken naa
 r sponsors. Ook zijn de leden van een team verplicht Roparun loten te verk
 open waarvan de opbrengst ten goede komt aan het doel.\nDe drie teams met 
 de hoogste opbrengst en de&nbsp\;zes teams die een prijs hebben gewonnen n
 aar aanleiding van hun gelopen snelheid worden gehuldigd tijdens het eindf
 eest van de Roparun wat een aantal weken na de finish plaatsvindt. Op die 
 avond wordt ook de totale opbrengst van de Roparun bekend gemaakt. De afge
 lopen 26 edities van de Roparun is al meer dan 78 miljoen euro opgehaald v
 oor&nbsp\;zorg voor mensen met kanker.\nDit jaar geen start in Parijs of H
 amburg. Net als vorig jaar starten we vanuit vliegveld Twenthe en blijven 
 we in Nederland.
DTSTART:20230527T100000Z
DTEND:20230529T160000Z
GEO:+51.920975;+4.479749
LOCATION:Nederland
ORGANIZER:
SEQUENCE:1
SUMMARY:Roparun 2023
TRANSP:OPAQUE
URL:https://www.team293-steamwork.nl/component/icagenda/51-45-2018-03-25-15
 -32-19?layout=vcal
END:VEVENT
END:VCALENDAR
