BEGIN:VCALENDAR
VERSION:2.0
PRODID:-//Steamwork//NONSGML kigkonsult.se iCalcreator 2.41.92//
CALSCALE:GREGORIAN
METHOD:PUBLISH
UID:33333737-6131-4463-b266-633763363233
X-WR-CALNAME:iCagenda
X-WR-CALDESC:Event Management Extension for Joomla!
X-WR-RELCALID:3E26604A-50F4-4449-8B3E-E4F4932D05B5
X-WR-TIMEZONE:Europe/Amsterdam
BEGIN:VTIMEZONE
TZID:Europe/Amsterdam
TZUNTIL:20231029T010000Z
BEGIN:STANDARD
TZNAME:CET
DTSTART:20211031T030000
TZOFFSETFROM:+0200
TZOFFSETTO:+0100
RDATE:20221030T030000
END:STANDARD
BEGIN:DAYLIGHT
TZNAME:CEST
DTSTART:20220327T020000
TZOFFSETFROM:+0100
TZOFFSETTO:+0200
RDATE:20230326T020000
END:DAYLIGHT
END:VTIMEZONE
BEGIN:VEVENT
UID:61623535-3265-4061-a134-373335656361
DTSTAMP:20260424T222606Z
CATEGORIES:Team Acties
CLASS:PUBLIC
DESCRIPTION;ALTREP="CID:<FFFF__=0ABBE548DFE235B58f9e8a93d@coffeebean.com>":
 Team Steamwork gaat als teamuitje de stichting Jarige Job helpen met het i
 npakken van verjaardagsboxen.
DTSTART:20220329T170000Z
DTEND:20220329T200000Z
GEO:+51.924652;+4.430589
LOCATION:Van Nelle fabiek\, Rotterdam
ORGANIZER:
SEQUENCE:1
SUMMARY:Stichting Jarige Job
TRANSP:OPAQUE
URL:https://www.team293-steamwork.nl/component/icagenda/48-stichting-jarige
 -job?layout=vcal
END:VEVENT
END:VCALENDAR
