BEGIN:VCALENDAR
VERSION:2.0
PRODID:-//Steamwork//NONSGML kigkonsult.se iCalcreator 2.41.92//
CALSCALE:GREGORIAN
METHOD:PUBLISH
UID:63336465-3233-4532-b232-353463336235
X-WR-CALNAME:iCagenda
X-WR-CALDESC:Event Management Extension for Joomla!
X-WR-RELCALID:3E26604A-50F4-4449-8B3E-E4F4932D05B5
X-WR-TIMEZONE:Europe/Amsterdam
BEGIN:VTIMEZONE
TZID:Europe/Amsterdam
TZUNTIL:20231029T010000Z
BEGIN:STANDARD
TZNAME:CET
DTSTART:20211031T030000
TZOFFSETFROM:+0200
TZOFFSETTO:+0100
RDATE:20221030T030000
END:STANDARD
BEGIN:DAYLIGHT
TZNAME:CEST
DTSTART:20210328T020000
TZOFFSETFROM:+0100
TZOFFSETTO:+0200
RDATE:20220327T020000
RDATE:20230326T020000
END:DAYLIGHT
END:VTIMEZONE
BEGIN:VEVENT
UID:39646438-6465-4166-b237-663139393261
DTSTAMP:20260424T222527Z
CATEGORIES:Team Acties
CLASS:PUBLIC
DESCRIPTION;ALTREP="CID:<FFFF__=0ABBE548DFE235B58f9e8a93d@coffeebean.com>":
 Fabio Jakobsen\, 'The Huricane van Heukelum'\, uit de de Quick-Step wieler
 ploeg kwam in 2020 in de ronde van Polen ernstig ten val. Dagen lang heeft
  hij moeten vechten voor zijn leven. Vervolgens won hij in 2021 de groene 
 trui (winnaar puntenklassement) in de Vuelta\, Een prestatie van formaat i
 n een jaar na zijn valpartij.\nAls team zijn wij hem dankbaar voor deze un
 ieke gesigneerde trui\, die we via Dennis van de Bor\, hebben mogen ontvan
 gen om te veilen voor de Roparun.
DTSTART:20220210T230000Z
DTEND:20220331T225900Z
GEO:00;0
LOCATION:Hardinxveld-Giessendam
ORGANIZER:
SEQUENCE:1
SUMMARY:Veiling
TRANSP:OPAQUE
URL:https://www.team293-steamwork.nl/component/icagenda/47-veiling?layout=v
 cal
END:VEVENT
END:VCALENDAR
