BEGIN:VCALENDAR
VERSION:2.0
PRODID:-//Steamwork//NONSGML kigkonsult.se iCalcreator 2.41.92//
CALSCALE:GREGORIAN
METHOD:PUBLISH
UID:34356432-6539-4162-b866-376662393138
X-WR-CALNAME:iCagenda
X-WR-CALDESC:Event Management Extension for Joomla!
X-WR-RELCALID:3E26604A-50F4-4449-8B3E-E4F4932D05B5
X-WR-TIMEZONE:Europe/Amsterdam
BEGIN:VTIMEZONE
TZID:Europe/Amsterdam
TZUNTIL:20231029T010000Z
BEGIN:STANDARD
TZNAME:CET
DTSTART:20211031T030000
TZOFFSETFROM:+0200
TZOFFSETTO:+0100
RDATE:20221030T030000
END:STANDARD
BEGIN:DAYLIGHT
TZNAME:CEST
DTSTART:20210328T020000
TZOFFSETFROM:+0100
TZOFFSETTO:+0200
RDATE:20220327T020000
RDATE:20230326T020000
END:DAYLIGHT
END:VTIMEZONE
BEGIN:VEVENT
UID:38316237-3137-4164-b930-646463353830
DTSTAMP:20260425T013824Z
CATEGORIES:Roparun
CLASS:PUBLIC
DESCRIPTION;ALTREP="CID:<FFFF__=0ABBE548DFE235B58f9e8a93d@coffeebean.com>":
 In de aanloop naar Roparun 2022 vinden er drie teambijeenkomsten&nbsp\;pla
 ats in de Doelen in Rotterdam. Tijdens deze bijeenkomsten wordt informatie
  gedeeld over allerlei zaken aangaande de Roparun en onderliggende activit
 eiten.&nbsp\;
DTSTART:20220129T090000Z
DTEND:20220129T110000Z
GEO:+51.921722;+4.473346
LOCATION:De Doelen Rotterdam
ORGANIZER:
SEQUENCE:1
SUMMARY:Roparun Bijeenkomst
TRANSP:OPAQUE
URL:https://www.team293-steamwork.nl/component/icagenda/46-roparun-teambije
 enkomst-6?layout=vcal
END:VEVENT
END:VCALENDAR
