BEGIN:VCALENDAR
VERSION:2.0
PRODID:-//Steamwork//NONSGML kigkonsult.se iCalcreator 2.41.92//
CALSCALE:GREGORIAN
METHOD:PUBLISH
UID:34386463-3130-4433-b733-303463356539
X-WR-CALNAME:iCagenda
X-WR-CALDESC:Event Management Extension for Joomla!
X-WR-RELCALID:3E26604A-50F4-4449-8B3E-E4F4932D05B5
X-WR-TIMEZONE:Europe/Amsterdam
BEGIN:VTIMEZONE
TZID:Europe/Amsterdam
TZUNTIL:20211031T010000Z
BEGIN:STANDARD
TZNAME:CET
DTSTART:20191027T030000
TZOFFSETFROM:+0200
TZOFFSETTO:+0100
RDATE:20201025T030000
END:STANDARD
BEGIN:DAYLIGHT
TZNAME:CEST
DTSTART:20190331T020000
TZOFFSETFROM:+0100
TZOFFSETTO:+0200
RDATE:20200329T020000
RDATE:20210328T020000
END:DAYLIGHT
END:VTIMEZONE
BEGIN:VEVENT
UID:39393563-6563-4535-a539-396139656463
DTSTAMP:20260425T040644Z
CATEGORIES:Roparun
CLASS:PUBLIC
DESCRIPTION;ALTREP="CID:<FFFF__=0ABBE548DFE235B58f9e8a93d@coffeebean.com>":
 In de aanloop naar Roparun 2018 vinden er drie teambijeenkomsten&nbsp\;pla
 ats in Het&nbsp\;Nieuwe Luxor Theater. Tijdens deze bijeenkomsten wordt in
 formatie gedeeld over allerlei zaken aangaande de Roparun en onderliggende
  activiteiten.&nbsp\;
DTSTART:20200208T090000Z
DTEND:20200208T110000Z
GEO:+51.921722;+4.473346
LOCATION:De Doelen Rotterdam
ORGANIZER:
SEQUENCE:1
SUMMARY:Roparun Bijeenkomst
TRANSP:OPAQUE
URL:https://www.team293-steamwork.nl/component/icagenda/30-roparun-teambije
 enkomst-4?layout=vcal
END:VEVENT
END:VCALENDAR
