BEGIN:VCALENDAR
VERSION:2.0
PRODID:-//Steamwork//NONSGML kigkonsult.se iCalcreator 2.41.92//
CALSCALE:GREGORIAN
METHOD:PUBLISH
UID:39623061-6337-4066-b266-613339313530
X-WR-CALNAME:iCagenda
X-WR-CALDESC:Event Management Extension for Joomla!
X-WR-RELCALID:3E26604A-50F4-4449-8B3E-E4F4932D05B5
X-WR-TIMEZONE:Europe/Amsterdam
BEGIN:VTIMEZONE
TZID:Europe/Amsterdam
TZUNTIL:20201025T010000Z
BEGIN:STANDARD
TZNAME:CET
DTSTART:20181028T030000
TZOFFSETFROM:+0200
TZOFFSETTO:+0100
RDATE:20191027T030000
END:STANDARD
BEGIN:DAYLIGHT
TZNAME:CEST
DTSTART:20190331T020000
TZOFFSETFROM:+0100
TZOFFSETTO:+0200
RDATE:20200329T020000
END:DAYLIGHT
END:VTIMEZONE
BEGIN:VEVENT
UID:34333465-3961-4737-b232-326136333639
DTSTAMP:20260425T021602Z
CATEGORIES:Sponsor Acties
CLASS:PUBLIC
DESCRIPTION;ALTREP="CID:<FFFF__=0ABBE548DFE235B58f9e8a93d@coffeebean.com>":
 Op 24 april 2019 houdt basisschool de Venen een sponsorloop. De opbrengst 
 komt geheel ten goede aan Kika en de Roparun.
DTSTART:20190424T060000Z
DTEND:20190424T140000Z
GEO:+52.051952;+4.7272
LOCATION:Reeuwijk
ORGANIZER:
SEQUENCE:1
SUMMARY:Sponsorloop basisschool de Venen
TRANSP:OPAQUE
URL:https://www.team293-steamwork.nl/component/icagenda/27-sponsorloop-basi
 sschool-de-venen?layout=vcal
END:VEVENT
END:VCALENDAR
