BEGIN:VCALENDAR
VERSION:2.0
PRODID:-//Steamwork//NONSGML kigkonsult.se iCalcreator 2.41.92//
CALSCALE:GREGORIAN
METHOD:PUBLISH
UID:62336435-6332-4265-b730-356361306365
X-WR-CALNAME:iCagenda
X-WR-CALDESC:Event Management Extension for Joomla!
X-WR-RELCALID:3E26604A-50F4-4449-8B3E-E4F4932D05B5
X-WR-TIMEZONE:Europe/Amsterdam
BEGIN:VTIMEZONE
TZID:Europe/Amsterdam
TZUNTIL:20201025T010000Z
BEGIN:STANDARD
TZNAME:CET
DTSTART:20181028T030000
TZOFFSETFROM:+0200
TZOFFSETTO:+0100
RDATE:20191027T030000
END:STANDARD
BEGIN:DAYLIGHT
TZNAME:CEST
DTSTART:20180325T020000
TZOFFSETFROM:+0100
TZOFFSETTO:+0200
RDATE:20190331T020000
RDATE:20200329T020000
END:DAYLIGHT
END:VTIMEZONE
BEGIN:VEVENT
UID:30373338-3564-4339-a238-653565613964
DTSTAMP:20260425T040643Z
CATEGORIES:Sponsor Acties
CLASS:PUBLIC
DESCRIPTION;ALTREP="CID:<FFFF__=0ABBE548DFE235B58f9e8a93d@coffeebean.com>":
 Op dinsdag 5 maart 2019 organiseert team Steamwork samen met het Grienden 
 College te Sliedrecht een sponsorloop voor alle leerlingen van de school.&
 nbsp\;
DTSTART:20190305T080000Z
DTEND:20190305T110000Z
GEO:+51.822861;+4.781191
LOCATION:
ORGANIZER:
SEQUENCE:1
SUMMARY:Sponsorloop Grienden College
TRANSP:OPAQUE
URL:https://www.team293-steamwork.nl/component/icagenda/25-sponsorloop-gsg-
 leo-vroman-2?layout=vcal
END:VEVENT
END:VCALENDAR
