BEGIN:VCALENDAR
VERSION:2.0
PRODID:-//Steamwork//NONSGML kigkonsult.se iCalcreator 2.41.92//
CALSCALE:GREGORIAN
METHOD:PUBLISH
UID:33346438-6230-4233-a638-633561326131
X-WR-CALNAME:iCagenda
X-WR-CALDESC:Event Management Extension for Joomla!
X-WR-RELCALID:3E26604A-50F4-4449-8B3E-E4F4932D05B5
X-WR-TIMEZONE:Europe/Amsterdam
BEGIN:VTIMEZONE
TZID:Europe/Amsterdam
TZUNTIL:20201025T010000Z
BEGIN:STANDARD
TZNAME:CET
DTSTART:20181028T030000
TZOFFSETFROM:+0200
TZOFFSETTO:+0100
RDATE:20191027T030000
END:STANDARD
BEGIN:DAYLIGHT
TZNAME:CEST
DTSTART:20180325T020000
TZOFFSETFROM:+0100
TZOFFSETTO:+0200
RDATE:20190331T020000
RDATE:20200329T020000
END:DAYLIGHT
END:VTIMEZONE
BEGIN:VEVENT
UID:36333964-3863-4833-a134-633636383864
DTSTAMP:20260425T035755Z
CATEGORIES:Team Acties
CLASS:PUBLIC
DESCRIPTION;ALTREP="CID:<FFFF__=0ABBE548DFE235B58f9e8a93d@coffeebean.com>":
 Zondag 25 maart 2018 start de jaarlijks team training als voorbereiding op
  de RopaRun. Dit jaar doen we een rondje Gouda en starten we vanuit de Atl
 etiekvereniging Gouda. Mocht je ons tegenkomen schroom dan niet om even te
  toeteren en te supporten.
DTSTART:20190310T080000Z
DTEND:20190310T110000Z
GEO:+52.028107;+4.686444
LOCATION:
ORGANIZER:
SEQUENCE:1
SUMMARY:Teamtraining
TRANSP:OPAQUE
URL:https://www.team293-steamwork.nl/component/icagenda/24-teamtraining-2?l
 ayout=vcal
END:VEVENT
END:VCALENDAR
