BEGIN:VCALENDAR
VERSION:2.0
PRODID:-//Steamwork//NONSGML kigkonsult.se iCalcreator 2.41.92//
CALSCALE:GREGORIAN
METHOD:PUBLISH
UID:65363364-3366-4635-b137-643538346162
X-WR-CALNAME:iCagenda
X-WR-CALDESC:Event Management Extension for Joomla!
X-WR-RELCALID:3E26604A-50F4-4449-8B3E-E4F4932D05B5
X-WR-TIMEZONE:Europe/Amsterdam
BEGIN:VTIMEZONE
TZID:Europe/Amsterdam
TZUNTIL:20210328T010000Z
BEGIN:STANDARD
TZNAME:CET
DTSTART:20181028T030000
TZOFFSETFROM:+0200
TZOFFSETTO:+0100
RDATE:20191027T030000
RDATE:20201025T030000
END:STANDARD
BEGIN:DAYLIGHT
TZNAME:CEST
DTSTART:20190331T020000
TZOFFSETFROM:+0100
TZOFFSETTO:+0200
RDATE:20200329T020000
END:DAYLIGHT
END:VTIMEZONE
BEGIN:VEVENT
UID:64613536-3736-4937-b032-373832306164
DTSTAMP:20260425T034846Z
CATEGORIES:Roparun
CLASS:PUBLIC
DESCRIPTION;ALTREP="CID:<FFFF__=0ABBE548DFE235B58f9e8a93d@coffeebean.com>":
 In de aanloop naar Roparun 2018 vinden er drie teambijeenkomsten&nbsp\;pla
 ats in Het&nbsp\;Nieuwe Luxor Theater. Tijdens deze bijeenkomsten wordt in
 formatie gedeeld over allerlei zaken aangaande de Roparun en onderliggende
  activiteiten.&nbsp\;
DTSTART:20190518T080000Z
DTEND:20190518T100000Z
GEO:+51.906769;+4.491188
LOCATION:
ORGANIZER:
SEQUENCE:1
SUMMARY:3e Roparun Bijeenkomst
TRANSP:OPAQUE
URL:https://www.team293-steamwork.nl/component/icagenda/23-roparun-teambije
 enkomst-3?layout=vcal
END:VEVENT
END:VCALENDAR
