BEGIN:VCALENDAR
VERSION:2.0
PRODID:-//Steamwork//NONSGML kigkonsult.se iCalcreator 2.41.92//
CALSCALE:GREGORIAN
METHOD:PUBLISH
UID:38343331-6263-4330-b565-633761336232
X-WR-CALNAME:iCagenda
X-WR-CALDESC:Event Management Extension for Joomla!
X-WR-RELCALID:3E26604A-50F4-4449-8B3E-E4F4932D05B5
X-WR-TIMEZONE:Europe/Amsterdam
BEGIN:VTIMEZONE
TZID:Europe/Amsterdam
TZUNTIL:20201025T010000Z
BEGIN:STANDARD
TZNAME:CET
DTSTART:20181028T030000
TZOFFSETFROM:+0200
TZOFFSETTO:+0100
RDATE:20191027T030000
END:STANDARD
BEGIN:DAYLIGHT
TZNAME:CEST
DTSTART:20180325T020000
TZOFFSETFROM:+0100
TZOFFSETTO:+0200
RDATE:20190331T020000
RDATE:20200329T020000
END:DAYLIGHT
END:VTIMEZONE
BEGIN:VEVENT
UID:65623861-3966-4336-b233-653738633862
DTSTAMP:20260425T035842Z
CATEGORIES:Team Acties
CLASS:PUBLIC
DESCRIPTION;ALTREP="CID:<FFFF__=0ABBE548DFE235B58f9e8a93d@coffeebean.com>":
 Tijdens de teambijeenkomst wordt in een ontspannen en gezellige sfeer alle
  zaken m.b.t. team Steamwork besproken. Denk hierbij aan de ontwikkeling\,
  voorbereiding en evaluatie van sponsoractiviteiten en voorbereidingen en 
 afstemming van de Roparun zelf.\nDeze keer zal geheel in het teken staan v
 an de Roparun 2018 die binnen 2 weken staat te beginnen
DTSTART:20190310T110000Z
DTEND:20190310T130000Z
GEO:+51.832844;+4.753375
LOCATION:
ORGANIZER:
SEQUENCE:1
SUMMARY:Teambijeenkomst
TRANSP:OPAQUE
URL:https://www.team293-steamwork.nl/component/icagenda/20-teambijeenkomst-
 2?layout=vcal
END:VEVENT
END:VCALENDAR
