BEGIN:VCALENDAR
VERSION:2.0
PRODID:-//Steamwork//NONSGML kigkonsult.se iCalcreator 2.41.92//
CALSCALE:GREGORIAN
METHOD:PUBLISH
UID:61626133-3232-4230-a233-623164623532
X-WR-CALNAME:iCagenda
X-WR-CALDESC:Event Management Extension for Joomla!
X-WR-RELCALID:3E26604A-50F4-4449-8B3E-E4F4932D05B5
X-WR-TIMEZONE:Europe/Amsterdam
BEGIN:VTIMEZONE
TZID:Europe/Amsterdam
TZUNTIL:20201025T010000Z
BEGIN:STANDARD
TZNAME:CET
DTSTART:20181028T030000
TZOFFSETFROM:+0200
TZOFFSETTO:+0100
RDATE:20191027T030000
END:STANDARD
BEGIN:DAYLIGHT
TZNAME:CEST
DTSTART:20180325T020000
TZOFFSETFROM:+0100
TZOFFSETTO:+0200
RDATE:20190331T020000
RDATE:20200329T020000
END:DAYLIGHT
END:VTIMEZONE
BEGIN:VEVENT
UID:62376466-3035-4133-b732-393131353434
DTSTAMP:20260425T140833Z
CATEGORIES:Sponsor Acties
CLASS:PUBLIC
DESCRIPTION;ALTREP="CID:<FFFF__=0ABBE548DFE235B58f9e8a93d@coffeebean.com>":
 Op vijdag 9 november 2018 vind voor de tweede maail de spinningestafette p
 laats bij sportschool Fitter bij de Wit in Hardinxveld. Net als vorige jaa
 r komt ook dit keer de gehele opbrengst ten goede aan de Roparun. De Estaf
 ette start om 18:00 uur en duurt tot 22:00 uur. Het inschrijfgeld bedraagt
  € 15\,- per uur.\nSchrijf je in en steun de Roparun. Mocht je vragen hebb
 en neem dan gerust contact op met Arjan Holster (06-53679648)\nHet team me
 t de hoogste opbrengst ontvangt een dinerbon van de 'Heeren van Slydregt'
DTSTART:20181109T170000Z
DTEND:20181109T210000Z
GEO:+51.829319;+4.81936
LOCATION:Hardinxveld
ORGANIZER;CN=:mailto:arjan.holster@team293-steamwork.nl
SEQUENCE:1
SUMMARY:SpinningEstafette
TRANSP:OPAQUE
URL:https://www.team293-steamwork.nl/component/icagenda/16-spinningestafett
 e?layout=vcal
END:VEVENT
END:VCALENDAR
