BEGIN:VCALENDAR
VERSION:2.0
PRODID:-//Steamwork//NONSGML kigkonsult.se iCalcreator 2.41.92//
CALSCALE:GREGORIAN
METHOD:PUBLISH
UID:30393866-6462-4631-b232-363038353765
X-WR-CALNAME:iCagenda
X-WR-CALDESC:Event Management Extension for Joomla!
X-WR-RELCALID:3E26604A-50F4-4449-8B3E-E4F4932D05B5
X-WR-TIMEZONE:Europe/Amsterdam
BEGIN:VTIMEZONE
TZID:Europe/Amsterdam
TZUNTIL:20200329T010000Z
BEGIN:STANDARD
TZNAME:CET
DTSTART:20171029T030000
TZOFFSETFROM:+0200
TZOFFSETTO:+0100
RDATE:20181028T030000
RDATE:20191027T030000
END:STANDARD
BEGIN:DAYLIGHT
TZNAME:CEST
DTSTART:20180325T020000
TZOFFSETFROM:+0100
TZOFFSETTO:+0200
RDATE:20190331T020000
END:DAYLIGHT
END:VTIMEZONE
BEGIN:VEVENT
UID:38333063-3566-4938-b533-646134616265
DTSTAMP:20260425T103341Z
CATEGORIES:Sponsor Acties
CLASS:PUBLIC
DESCRIPTION;ALTREP="CID:<FFFF__=0ABBE548DFE235B58f9e8a93d@coffeebean.com>":
 Van&nbsp\;23 t/m 25 augustus 2018&nbsp\;vindt alweer de achtste editie pla
 ats van het culinaire muziekfestival&nbsp\;CuliNESSE.Op het strand aan de&
 nbsp\;Zevenhuizerplas&nbsp\;kun je weer genieten van culinaire hoogstandje
 s van verschillendegerenommeerde restaurants&nbsp\;uit de regio\, optreden
 s van&nbsp\;bekende artiesten\, waaronder Kensington\, Blof\, Golden Earin
 g\, Candy Dulfer en velen anderen. Daarnaast worden er tal van&nbsp\;ander
 e activiteiten georganiseerd.\nTijdens het festival is we actief om de Rop
 arun en Team 293 - Steamwork&nbsp\;uitgebreid te promoten en sponsors te w
 erven voor de volgende Roparun editie.\n&nbsp\;
DTSTART:20180823T150000Z
DTEND:20180825T215900Z
GEO:+51.98291;+4.582107
LOCATION:
ORGANIZER:
SEQUENCE:1
SUMMARY:Culinesse 2018
TRANSP:OPAQUE
URL:https://www.team293-steamwork.nl/component/icagenda/15-culinesse-2018?l
 ayout=vcal
END:VEVENT
END:VCALENDAR
