BEGIN:VCALENDAR
VERSION:2.0
PRODID:-//Steamwork//NONSGML kigkonsult.se iCalcreator 2.41.92//
CALSCALE:GREGORIAN
METHOD:PUBLISH
UID:33663132-3465-4133-a134-343739623264
X-WR-CALNAME:iCagenda
X-WR-CALDESC:Event Management Extension for Joomla!
X-WR-RELCALID:3E26604A-50F4-4449-8B3E-E4F4932D05B5
X-WR-TIMEZONE:Europe/Amsterdam
BEGIN:VTIMEZONE
TZID:Europe/Amsterdam
TZUNTIL:20201025T010000Z
BEGIN:STANDARD
TZNAME:CET
DTSTART:20171029T030000
TZOFFSETFROM:+0200
TZOFFSETTO:+0100
RDATE:20181028T030000
RDATE:20191027T030000
END:STANDARD
BEGIN:DAYLIGHT
TZNAME:CEST
DTSTART:20180325T020000
TZOFFSETFROM:+0100
TZOFFSETTO:+0200
RDATE:20190331T020000
RDATE:20200329T020000
END:DAYLIGHT
END:VTIMEZONE
BEGIN:VEVENT
UID:35316436-3162-4133-b932-356364343439
DTSTAMP:20260425T140840Z
CATEGORIES:Sponsor Acties
CLASS:PUBLIC
DESCRIPTION;ALTREP="CID:<FFFF__=0ABBE548DFE235B58f9e8a93d@coffeebean.com>":
 Op donderdagavond 4 oktober komen Rob en Emiel met een fantastische show n
 aar Theater De Willem in Papendrecht. Een avond vol amusement en verbazing
 .\nRob en Emiel behoeven nauwelijks een introductie. Zij zijn bijna dageli
 jks op televisie te zien met hun programma School Magic of zijn te gast bi
 j andere programma’s als Utopia. Tussen de televisieopnames door geven ze 
 een indrukwekkende 300 shows per jaar in theater\, festivals of voor bedri
 jven en instellingen over heel de wereld. Dat komt vooral door hun unieke 
 shows waarin zij cabaret en magic op hun geheel eigen manier verwerken. Re
 gelmatig zal je bij hun shows moeten kiezen tussen keihard lachen of vol v
 erbazing geen woord meer kunnen uitbrengen. Visueel sterk of mentaal onmog
 elijk?\nU kunt het allemaal zien.\nDe kaarten voor deze avond kosten slech
 ts €20\,00 en zijn inclusief een drankje.\nDuur van de show met een Myster
 y Guest ruim 100 minuten en een extra tweede helft in de foyer!\nGeschikt 
 voor iedereen van 12 tot 99 jaar. De kaartverkoop start 7 mei 2018 via The
 ater de Willem\nMaar natuurlijk is het ook mogelijk om kaarten te bestelle
 n bij één van de teamleden.\nSamen onderweg naar een fantastische avond en
  een mooi bedrag voor de RopaRun 2019!!!!!!
DTSTART:20181004T181500Z
DTEND:20181004T211500Z
GEO:+51.832478;+4.684096
LOCATION:
ORGANIZER:
SEQUENCE:1
SUMMARY:Onderweg met Rob en Emiel
TRANSP:OPAQUE
URL:https://www.team293-steamwork.nl/component/icagenda/14-onderweg-met-rob
 -en-emiel?layout=vcal
END:VEVENT
END:VCALENDAR
