BEGIN:VCALENDAR
VERSION:2.0
PRODID:-//Steamwork//NONSGML kigkonsult.se iCalcreator 2.41.92//
CALSCALE:GREGORIAN
METHOD:PUBLISH
UID:38383736-3465-4431-b332-613634353634
X-WR-CALNAME:iCagenda
X-WR-CALDESC:Event Management Extension for Joomla!
X-WR-RELCALID:3E26604A-50F4-4449-8B3E-E4F4932D05B5
X-WR-TIMEZONE:Europe/Amsterdam
BEGIN:VTIMEZONE
TZID:Europe/Amsterdam
TZUNTIL:20280326T010000Z
BEGIN:STANDARD
TZNAME:CET
DTSTART:20251026T030000
TZOFFSETFROM:+0200
TZOFFSETTO:+0100
RDATE:20261025T030000
RDATE:20271031T030000
END:STANDARD
BEGIN:DAYLIGHT
TZNAME:CEST
DTSTART:20260329T020000
TZOFFSETFROM:+0100
TZOFFSETTO:+0200
RDATE:20270328T020000
END:DAYLIGHT
END:VTIMEZONE
BEGIN:VEVENT
UID:37333533-6330-4338-a136-626437323164
DTSTAMP:20260421T095926Z
CATEGORIES:Sponsor Acties
CLASS:PUBLIC
DESCRIPTION;ALTREP="CID:<FFFF__=0ABBE548DFE235B58f9e8a93d@coffeebean.com>":
 Net als vorig jaar organiseren we weer het Power Event. Dit jaar nog veel 
 meer stoere\, coole auto's\, waarin je tegen een kleine vergoeding als bij
 rijder een rondje mag ervaren. Zodra er meer informatie bekend is vind je 
 dit hier terug. Zet de datum vast in je agenda.&nbsp\;
DTSTART:20260613T080000Z
DTEND:20260613T150000Z
GEO:+51.825581;+4.831711
LOCATION:Hardinxveld-Giessendam
ORGANIZER:
SEQUENCE:1
SUMMARY:Power Event 2026
TRANSP:OPAQUE
URL:https://www.team293-steamwork.nl/activiteiten/74-power-event-2026
END:VEVENT
END:VCALENDAR
