BEGIN:VCALENDAR
VERSION:2.0
PRODID:-//Steamwork//NONSGML kigkonsult.se iCalcreator 2.41.92//
CALSCALE:GREGORIAN
METHOD:PUBLISH
UID:35633339-6139-4463-a666-643531306636
X-WR-CALNAME:iCagenda
X-WR-CALDESC:Event Management Extension for Joomla!
X-WR-RELCALID:3E26604A-50F4-4449-8B3E-E4F4932D05B5
X-WR-TIMEZONE:Europe/Amsterdam
BEGIN:VTIMEZONE
TZID:Europe/Amsterdam
TZUNTIL:20280326T010000Z
BEGIN:STANDARD
TZNAME:CET
DTSTART:20251026T030000
TZOFFSETFROM:+0200
TZOFFSETTO:+0100
RDATE:20261025T030000
RDATE:20271031T030000
END:STANDARD
BEGIN:DAYLIGHT
TZNAME:CEST
DTSTART:20260329T020000
TZOFFSETFROM:+0100
TZOFFSETTO:+0200
RDATE:20270328T020000
END:DAYLIGHT
END:VTIMEZONE
BEGIN:VEVENT
UID:32353034-3739-4137-a232-363630396365
DTSTAMP:20260421T100253Z
CATEGORIES:Roparun
CLASS:PUBLIC
DESCRIPTION;ALTREP="CID:<FFFF__=0ABBE548DFE235B58f9e8a93d@coffeebean.com>":
 In een feestelijke entourage worden alle team vanuit zowel Parijs als vlie
 gveld Twenthe binnen gehaald.&nbsp\;Wil je ons team binnenhalen hou dan on
 ze live blog tijdens de Roparun in de gaten. Dan heb je een indicatie hoe 
 laat we zullen finishen.\n&nbsp\;
DTSTART:20260525T090000Z
DTEND:20260525T170000Z
GEO:+51.920845;+4.479813
LOCATION:Coolsingel Rotterdam
ORGANIZER:
SEQUENCE:1
SUMMARY:Binnenkomst Roparun 2026
TRANSP:OPAQUE
URL:https://www.team293-steamwork.nl/activiteiten/73-binnenkomst-roparun-20
 26
END:VEVENT
END:VCALENDAR
