BEGIN:VCALENDAR
VERSION:2.0
PRODID:-//Steamwork//NONSGML kigkonsult.se iCalcreator 2.41.92//
CALSCALE:GREGORIAN
METHOD:PUBLISH
UID:61306237-6330-4637-a263-363762343761
X-WR-CALNAME:iCagenda
X-WR-CALDESC:Event Management Extension for Joomla!
X-WR-RELCALID:3E26604A-50F4-4449-8B3E-E4F4932D05B5
X-WR-TIMEZONE:Europe/Amsterdam
BEGIN:VTIMEZONE
TZID:Europe/Amsterdam
TZUNTIL:20280326T010000Z
BEGIN:STANDARD
TZNAME:CET
DTSTART:20251026T030000
TZOFFSETFROM:+0200
TZOFFSETTO:+0100
RDATE:20261025T030000
RDATE:20271031T030000
END:STANDARD
BEGIN:DAYLIGHT
TZNAME:CEST
DTSTART:20260329T020000
TZOFFSETFROM:+0100
TZOFFSETTO:+0200
RDATE:20270328T020000
END:DAYLIGHT
END:VTIMEZONE
BEGIN:VEVENT
UID:61353765-3237-4663-b838-356230636562
DTSTAMP:20260421T100518Z
CATEGORIES:Roparun
CLASS:PUBLIC
DESCRIPTION;ALTREP="CID:<FFFF__=0ABBE548DFE235B58f9e8a93d@coffeebean.com>":
 De Roparun is een estafetteloop met startlocaties in Parijs en vliegveld T
 wenthe en een gezamenlijke finish in Rotterdam. Een Roparunteam bestaat ui
 t maximaal acht lopers die dus ieder gemiddeld zo’n 65 kilometer lopen oft
 ewel meer dan anderhalve marathon(!).\nDaarnaast bestaat een team uit mini
 maal twee fietsers en nog een aantal mensen in de begeleiding. Denk hierbi
 j aan chauffeurs\, verzorgers\, cateraars en wegkapiteins. Teams zijn zelf
  verantwoordelijk voor de invulling van deze taken en gemiddeld bestaat ee
 n team uit 25 personen.\nNaast de sportieve inspanning\, moet er ook een i
 nspanning geleverd worden om geld op te halen voor het doel. Teams doen di
 t door het organiseren van allerlei acties. Denk hierbij aan het inpakken 
 van boodschappen\, het wassen van auto’s\, het houden van collectes en het
  zoeken naar sponsors. Ook zijn de leden van een team verplicht Roparun lo
 ten te verkopen waarvan de opbrengst ten goede komt aan het doel.\nDe drie
  teams met de hoogste opbrengst en de&nbsp\;zes teams die een prijs hebben
  gewonnen naar aanleiding van hun gelopen snelheid worden gehuldigd tijden
 s het eindfeest van de Roparun wat een aantal weken na de finish plaatsvin
 dt. Op die avond wordt ook de totale opbrengst van de Roparun bekend gemaa
 kt. Team steamwork is de laatste jaren in de top 3 geeindigd wat betreft h
 et ophalen van geld voor de zorg voor mensen met kanker.\nSteun ons Roparu
 n avontuur. Steun ons.
DTSTART:20260523T100000Z
DTEND:20260525T160000Z
GEO:+51.920975;+4.479749
LOCATION:Nederland
ORGANIZER:
SEQUENCE:1
SUMMARY:Roparun 2026
TRANSP:OPAQUE
URL:https://www.team293-steamwork.nl/activiteiten/72-45-2018-03-25-15-32-22
END:VEVENT
END:VCALENDAR
